BEGIN:VCALENDAR
VERSION:2.0
PRODID:-//Lucky C Auctions - ECPv4.6.9//NONSGML v1.0//EN
CALSCALE:GREGORIAN
METHOD:PUBLISH
X-WR-CALNAME:Lucky C Auctions
X-ORIGINAL-URL:http://www.luckycauctions.com
X-WR-CALDESC:Events for Lucky C Auctions
BEGIN:VEVENT
DTSTART;TZID=America/Denver:20240516T080000
DTEND;TZID=America/Denver:20240519T190000
DTSTAMP:20260423T155706
CREATED:20240517T033253Z
LAST-MODIFIED:20240517T033253Z
UID:1347-1715846400-1716145200@www.luckycauctions.com
SUMMARY:Boise Online Estate Auction Sunday 5/19
DESCRIPTION:Boise Online Estate Auction Sunday 5/19 \nAuction Begins Closing Sunday May 19th at 7PM \nPickup: Monday May 20th 12-5:30 PM \n
URL:http://www.luckycauctions.com/auction/boise-online-estate-auction-sunday-5-19/
END:VEVENT
END:VCALENDAR