BEGIN:VCALENDAR
VERSION:2.0
PRODID:-//Lucky C Auctions - ECPv4.6.9//NONSGML v1.0//EN
CALSCALE:GREGORIAN
METHOD:PUBLISH
X-WR-CALNAME:Lucky C Auctions
X-ORIGINAL-URL:http://www.luckycauctions.com
X-WR-CALDESC:Events for Lucky C Auctions
BEGIN:VEVENT
DTSTART;TZID=America/Denver:20170706T080000
DTEND;TZID=America/Denver:20170719T190000
DTSTAMP:20260424T214641
CREATED:20170707T040230Z
LAST-MODIFIED:20170707T040230Z
UID:570-1499328000-1500490800@www.luckycauctions.com
SUMMARY:Estate Online Auction 7/19
DESCRIPTION:\n\n\nBegins Closing July 19th at 7PM\n\n\nPreview Date/Time\nJuly 19th 12-6PM\n\n\nCheckout Date/Time\nJuly 20th 12-7PM\n\n\nLocation\n156 S 5th St (Hwy 95)\n Wilder\, ID 83676\n\n\n\n  \n
URL:http://www.luckycauctions.com/auction/estate-online-auction-719/
LOCATION:156 S 5th St (Hwy 95)\, Wilder\, ID\, 83676\, United States
END:VEVENT
END:VCALENDAR