BEGIN:VCALENDAR
VERSION:2.0
PRODID:-//Lucky C Auctions - ECPv4.6.9//NONSGML v1.0//EN
CALSCALE:GREGORIAN
METHOD:PUBLISH
X-WR-CALNAME:Lucky C Auctions
X-ORIGINAL-URL:http://www.luckycauctions.com
X-WR-CALDESC:Events for Lucky C Auctions
BEGIN:VEVENT
DTSTART;TZID=America/Denver:20220308T080000
DTEND;TZID=America/Denver:20220316T190000
DTSTAMP:20260421T114016
CREATED:20220309T032417Z
LAST-MODIFIED:20220309T032417Z
UID:1140-1646726400-1647457200@www.luckycauctions.com
SUMMARY:Fruitland Estate Online Auction 3/16
DESCRIPTION:Fruitland Estate Online Auction 3/16: \nAuction Begins Closing March 16th at 7PM \nPreview: March 16th 2-6PM\nPickup: March 17th 12-7PM\nLocation: Fruitland\,ID  \n
URL:http://www.luckycauctions.com/auction/fruitland-estate-online-auction-3-16/
END:VEVENT
END:VCALENDAR