BEGIN:VCALENDAR
VERSION:2.0
PRODID:-//Lucky C Auctions - ECPv4.6.9//NONSGML v1.0//EN
CALSCALE:GREGORIAN
METHOD:PUBLISH
X-WR-CALNAME:Lucky C Auctions
X-ORIGINAL-URL:http://www.luckycauctions.com
X-WR-CALDESC:Events for Lucky C Auctions
BEGIN:VEVENT
DTSTART;TZID=America/Denver:20151027T200000
DTEND;TZID=America/Denver:20151118T190000
DTSTAMP:20260422T153553
CREATED:20151028T040138Z
LAST-MODIFIED:20151116T041004Z
UID:264-1445976000-1447873200@www.luckycauctions.com
SUMMARY:Homedale Floral Liquidation
DESCRIPTION:Preview Nov 18th 11:00AM-5:30PM \nCheckout Nov 19th 11:00AM-6:00PM \n\n\n\n \n2 W Owyhee Ave Homedale\, ID 83628\n\n\n\n
URL:http://www.luckycauctions.com/auction/homedale-floral-liquidation/
END:VEVENT
END:VCALENDAR