BEGIN:VCALENDAR
VERSION:2.0
PRODID:-//Lucky C Auctions - ECPv4.6.9//NONSGML v1.0//EN
CALSCALE:GREGORIAN
METHOD:PUBLISH
X-WR-CALNAME:Lucky C Auctions
X-ORIGINAL-URL:http://www.luckycauctions.com
X-WR-CALDESC:Events for Lucky C Auctions
BEGIN:VEVENT
DTSTART;TZID=America/Denver:20181201T090000
DTEND;TZID=America/Denver:20181201T140000
DTSTAMP:20260425T181932
CREATED:20181119T225946Z
LAST-MODIFIED:20181119T225946Z
UID:748-1543654800-1543672800@www.luckycauctions.com
SUMMARY:Lucky Country Christmas Bazaar
DESCRIPTION:Lucky Country Christmas Bazaar \nJoin us in Wilder for a Country Christmas Bazaar! Get ready for the holidays and work on your shopping. Wonderful vendors with great gift items and décor! \nDec 1st from 9am to 2pm \nLocation: Lucky C Auctions **156 S 5th St Wilder** (Next to Jacksons Gas station) \n  \n
URL:http://www.luckycauctions.com/auction/lucky-country-christmas-bazaar-2/
LOCATION:156 S 5th St (Hwy 95)\, Wilder\, ID\, 83676\, United States
END:VEVENT
END:VCALENDAR