BEGIN:VCALENDAR
VERSION:2.0
PRODID:-//Lucky C Auctions - ECPv4.6.9//NONSGML v1.0//EN
CALSCALE:GREGORIAN
METHOD:PUBLISH
X-WR-CALNAME:Lucky C Auctions
X-ORIGINAL-URL:http://www.luckycauctions.com
X-WR-CALDESC:Events for Lucky C Auctions
BEGIN:VEVENT
DTSTART;TZID=America/Denver:20191130T090000
DTEND;TZID=America/Denver:20191130T140000
DTSTAMP:20260424T131152
CREATED:20191119T214506Z
LAST-MODIFIED:20191119T214719Z
UID:880-1575104400-1575122400@www.luckycauctions.com
SUMMARY:Lucky Country Christmas Bazaar
DESCRIPTION:Join us in Wilder at the Arena Valley Hall from 9am to 2pm.  \nCheck Out for more info: https://www.facebook.com/events/2222764214612613/ \n
URL:http://www.luckycauctions.com/auction/lucky-country-christmas-bazaar-3/
END:VEVENT
END:VCALENDAR