BEGIN:VCALENDAR
VERSION:2.0
PRODID:-//Lucky C Auctions - ECPv4.6.9//NONSGML v1.0//EN
CALSCALE:GREGORIAN
METHOD:PUBLISH
X-WR-CALNAME:Lucky C Auctions
X-ORIGINAL-URL:http://www.luckycauctions.com
X-WR-CALDESC:Events for Lucky C Auctions
BEGIN:VEVENT
DTSTART;TZID=America/Denver:20180516T080000
DTEND;TZID=America/Denver:20180522T190000
DTSTAMP:20260425T151907
CREATED:20180516T135441Z
LAST-MODIFIED:20180516T135441Z
UID:712-1526457600-1527015600@www.luckycauctions.com
SUMMARY:Moving Online Auction 5/22
DESCRIPTION:Begins Closing May 22nd at 7PM \nPreview: May 22nd 12-6PM \nPickup: May 23rd 11-6PM ONLY! \nLocation:Caldwell – Address will be released on May 22nd at 8am \n
URL:http://www.luckycauctions.com/auction/moving-online-auction-5-22/
END:VEVENT
END:VCALENDAR