BEGIN:VCALENDAR
VERSION:2.0
PRODID:-//Lucky C Auctions - ECPv4.6.9//NONSGML v1.0//EN
CALSCALE:GREGORIAN
METHOD:PUBLISH
X-WR-CALNAME:Lucky C Auctions
X-ORIGINAL-URL:http://www.luckycauctions.com
X-WR-CALDESC:Events for Lucky C Auctions
BEGIN:VEVENT
DTSTART;TZID=America/Denver:20210424T080000
DTEND;TZID=America/Denver:20210505T190000
DTSTAMP:20260424T082625
CREATED:20210425T042037Z
LAST-MODIFIED:20210425T042037Z
UID:1018-1619251200-1620241200@www.luckycauctions.com
SUMMARY:New Plymouth Estate Online Auction 5/5
DESCRIPTION:New Plymouth Estate Online Auction 5/5 \nAuction Begins Closing May 5th at 7PM \nPreview: May 5th 1-5PM \nPickup: May 6th 12-6PM \nLocation: New Plymouth\,ID Address to be released on May 5th at 11am \n
URL:http://www.luckycauctions.com/auction/new-plymouth-estate-online-auction-5-5/
END:VEVENT
END:VCALENDAR