BEGIN:VCALENDAR
VERSION:2.0
PRODID:-//Lucky C Auctions - ECPv4.6.9//NONSGML v1.0//EN
CALSCALE:GREGORIAN
METHOD:PUBLISH
X-WR-CALNAME:Lucky C Auctions
X-ORIGINAL-URL:http://www.luckycauctions.com
X-WR-CALDESC:Events for Lucky C Auctions
BEGIN:VEVENT
DTSTART;TZID=America/Denver:20230815T080000
DTEND;TZID=America/Denver:20230830T190000
DTSTAMP:20260423T200200
CREATED:20230815T203845Z
LAST-MODIFIED:20230815T203845Z
UID:1271-1692086400-1693422000@www.luckycauctions.com
SUMMARY:Notus Online Estate Auction 8/30
DESCRIPTION:Notus Online Estate Auction 8/30 \nAuction Begins Closing Aug 30th at 7PM\nPreview: No Preview \nPickup: Aug 31st 12-7PM \nLocation: Notus\, ID (Address to be released for pickup) \n
URL:http://www.luckycauctions.com/auction/notus-online-estate-auction-8-30/
END:VEVENT
END:VCALENDAR