BEGIN:VCALENDAR
VERSION:2.0
PRODID:-//Lucky C Auctions - ECPv4.6.9//NONSGML v1.0//EN
CALSCALE:GREGORIAN
METHOD:PUBLISH
X-WR-CALNAME:Lucky C Auctions
X-ORIGINAL-URL:http://www.luckycauctions.com
X-WR-CALDESC:Events for Lucky C Auctions
BEGIN:VEVENT
DTSTART;TZID=America/Denver:20190828T080000
DTEND;TZID=America/Denver:20190904T180000
DTSTAMP:20260424T145429
CREATED:20190829T044253Z
LAST-MODIFIED:20190829T044253Z
UID:851-1566979200-1567620000@www.luckycauctions.com
SUMMARY:Nursery Plant Online Auction 9/4
DESCRIPTION:Begins Closing Sept 4th at 6PM \nPreview: Sept 4th 12-6PM \nPickup: Sept 5th 12-7PM \n
URL:http://www.luckycauctions.com/auction/nursery-plant-online-auction-9-4/
END:VEVENT
END:VCALENDAR