BEGIN:VCALENDAR
VERSION:2.0
PRODID:-//Lucky C Auctions - ECPv4.6.9//NONSGML v1.0//EN
CALSCALE:GREGORIAN
METHOD:PUBLISH
X-WR-CALNAME:Lucky C Auctions
X-ORIGINAL-URL:http://www.luckycauctions.com
X-WR-CALDESC:Events for Lucky C Auctions
BEGIN:VEVENT
DTSTART;TZID=America/Denver:20180505T080000
DTEND;TZID=America/Denver:20180510T190000
DTSTAMP:20260425T133022
CREATED:20180506T020018Z
LAST-MODIFIED:20180506T020033Z
UID:705-1525507200-1525978800@www.luckycauctions.com
SUMMARY:Nursery Plant Online Auction 5/10
DESCRIPTION:Plant Auction!  \nBegins Closing May 10th at 7PM \nPreview May 9th & 10th from 12-6PM \nPickup May 11th 9:30am to 6PM Only  \n
URL:http://www.luckycauctions.com/auction/nursery-plant-online-auction/
LOCATION:156 S 5th St (Hwy 95)\, Wilder\, ID\, 83676\, United States
END:VEVENT
END:VCALENDAR