BEGIN:VCALENDAR
VERSION:2.0
PRODID:-//Lucky C Auctions - ECPv4.6.9//NONSGML v1.0//EN
CALSCALE:GREGORIAN
METHOD:PUBLISH
X-WR-CALNAME:Lucky C Auctions
X-ORIGINAL-URL:http://www.luckycauctions.com
X-WR-CALDESC:Events for Lucky C Auctions
BEGIN:VEVENT
DTSTART;TZID=America/Denver:20210204T080000
DTEND;TZID=America/Denver:20210217T190000
DTSTAMP:20260424T083621
CREATED:20210205T011131Z
LAST-MODIFIED:20210205T011816Z
UID:999-1612425600-1613588400@www.luckycauctions.com
SUMMARY:Nyssa Estate Online Auction 2/17
DESCRIPTION:Nyssa Estate Online Auction 2/17: \nAuction Begins Closing Feb 17th at 7PM \nPreview: Feb 17th 12-6PM \nPickup: Feb 18th 12-7PM ONLY!!  \nLocation: Nyssa\, OR (Address released at 10am Feb 17th) \n
URL:http://www.luckycauctions.com/auction/nyssa-estate-online-auction-2-17/
END:VEVENT
END:VCALENDAR