BEGIN:VCALENDAR
VERSION:2.0
PRODID:-//Lucky C Auctions - ECPv4.6.9//NONSGML v1.0//EN
CALSCALE:GREGORIAN
METHOD:PUBLISH
X-WR-CALNAME:Lucky C Auctions
X-ORIGINAL-URL:http://www.luckycauctions.com
X-WR-CALDESC:Events for Lucky C Auctions
BEGIN:VEVENT
DTSTART;TZID=America/Denver:20240723T080000
DTEND;TZID=America/Denver:20240807T170000
DTSTAMP:20260423T155252
CREATED:20240723T201601Z
LAST-MODIFIED:20240723T201601Z
UID:1355-1721721600-1723050000@www.luckycauctions.com
SUMMARY:Online Adrian Estate Auction 8/7
DESCRIPTION:Online Adrian Estate Auction 8/7: \n  \nAuction Begins Closing Aug 7th at 7PM \nPreview: Aug 7th 12-2PM \nPickup: Aug 8th 11 -530pm \nLocation: To be Released: Adrian/Nyssa (Owyhee Dam Area) \n
URL:http://www.luckycauctions.com/auction/online-adrian-estate-auction-8-7/
END:VEVENT
END:VCALENDAR