BEGIN:VCALENDAR
VERSION:2.0
PRODID:-//Lucky C Auctions - ECPv4.6.9//NONSGML v1.0//EN
CALSCALE:GREGORIAN
METHOD:PUBLISH
X-WR-CALNAME:Lucky C Auctions
X-ORIGINAL-URL:http://www.luckycauctions.com
X-WR-CALDESC:Events for Lucky C Auctions
BEGIN:VEVENT
DTSTART;TZID=America/Denver:20240111T080000
DTEND;TZID=America/Denver:20240117T190000
DTSTAMP:20260423T174052
CREATED:20240111T133456Z
LAST-MODIFIED:20240111T133456Z
UID:1313-1704960000-1705518000@www.luckycauctions.com
SUMMARY:Online Auction 1/17
DESCRIPTION:Online Auction 1/17 \nAuction Begins Closing Jan 17th at 7PM\nPreview: Jan 17th 12-5PM \nPickup: Jan 18th 12-7PM\nLocation: 156 S 5th St Wilder\, ID  \n
URL:http://www.luckycauctions.com/auction/online-auction-1-17-2/
END:VEVENT
END:VCALENDAR