BEGIN:VCALENDAR
VERSION:2.0
PRODID:-//Lucky C Auctions - ECPv4.6.9//NONSGML v1.0//EN
CALSCALE:GREGORIAN
METHOD:PUBLISH
X-WR-CALNAME:Lucky C Auctions
X-ORIGINAL-URL:http://www.luckycauctions.com
X-WR-CALDESC:Events for Lucky C Auctions
BEGIN:VEVENT
DTSTART;TZID=America/Denver:20231213T080000
DTEND;TZID=America/Denver:20240103T190000
DTSTAMP:20260423T174005
CREATED:20231214T020130Z
LAST-MODIFIED:20231214T020130Z
UID:1310-1702454400-1704308400@www.luckycauctions.com
SUMMARY:Online Auction 1/3
DESCRIPTION:Online Auction 1/3 \nAuction Begins Closing Jan 3rd at 7PM\nPreview: Jan 3rd 12-6PM\nPickup: Jan 4th 12-7PM\nLocation: 156 S 5th ST  Wilder\, ID \n
URL:http://www.luckycauctions.com/auction/online-auction-1-3-2/
END:VEVENT
END:VCALENDAR