BEGIN:VCALENDAR
VERSION:2.0
PRODID:-//Lucky C Auctions - ECPv4.6.9//NONSGML v1.0//EN
CALSCALE:GREGORIAN
METHOD:PUBLISH
X-WR-CALNAME:Lucky C Auctions
X-ORIGINAL-URL:http://www.luckycauctions.com
X-WR-CALDESC:Events for Lucky C Auctions
BEGIN:VEVENT
DTSTART;TZID=America/Denver:20180120T080000
DTEND;TZID=America/Denver:20180131T190000
DTSTAMP:20260424T214528
CREATED:20180120T223218Z
LAST-MODIFIED:20180120T223218Z
UID:659-1516435200-1517425200@www.luckycauctions.com
SUMMARY:Online Auction 1/31
DESCRIPTION:Begins Closing Jan 31st at 7PM\nPreview Jan 31st 12-6PM \nPickup Feb 1st 12-7PM Only Unless Arraignments Have Been Made \n
URL:http://www.luckycauctions.com/auction/online-auction-1-31/
LOCATION:156 S 5th St (Hwy 95)\, Wilder\, ID\, 83676\, United States
END:VEVENT
END:VCALENDAR