BEGIN:VCALENDAR
VERSION:2.0
PRODID:-//Lucky C Auctions - ECPv4.6.9//NONSGML v1.0//EN
CALSCALE:GREGORIAN
METHOD:PUBLISH
X-WR-CALNAME:Lucky C Auctions
X-ORIGINAL-URL:http://www.luckycauctions.com
X-WR-CALDESC:Events for Lucky C Auctions
BEGIN:VEVENT
DTSTART;TZID=America/Denver:20211220T080000
DTEND;TZID=America/Denver:20220105T190000
DTSTAMP:20260421T211654
CREATED:20211221T012821Z
LAST-MODIFIED:20211221T012842Z
UID:1121-1639987200-1641409200@www.luckycauctions.com
SUMMARY:Online Auction 1/5
DESCRIPTION:Online Auction 1/5: \nAuction Begins Closing Jan 5th at 7PM \nPreview: Jan 5th 12-6PM\nPickup: Jan 6th 12-7PM\nLocation: 156 S 5th St Wilder\, ID  \n
URL:http://www.luckycauctions.com/auction/online-auction-1-5/
END:VEVENT
END:VCALENDAR