BEGIN:VCALENDAR
VERSION:2.0
PRODID:-//Lucky C Auctions - ECPv4.6.9//NONSGML v1.0//EN
CALSCALE:GREGORIAN
METHOD:PUBLISH
X-WR-CALNAME:Lucky C Auctions
X-ORIGINAL-URL:http://www.luckycauctions.com
X-WR-CALDESC:Events for Lucky C Auctions
BEGIN:VEVENT
DTSTART;TZID=America/Denver:20191018T080000
DTEND;TZID=America/Denver:20191030T190000
DTSTAMP:20260424T150246
CREATED:20191019T014608Z
LAST-MODIFIED:20191019T014608Z
UID:871-1571385600-1572462000@www.luckycauctions.com
SUMMARY:Online Auction 10/30
DESCRIPTION:Online Auction 10/30: \nBegins Closing Oct 30th 12-6PM \nPreview: Oct 30th 12-6PM\nPickup: Oct 31st 12-7PM \n
URL:http://www.luckycauctions.com/auction/online-auction-10-30/
END:VEVENT
END:VCALENDAR