BEGIN:VCALENDAR
VERSION:2.0
PRODID:-//Lucky C Auctions - ECPv4.6.9//NONSGML v1.0//EN
CALSCALE:GREGORIAN
METHOD:PUBLISH
X-WR-CALNAME:Lucky C Auctions
X-ORIGINAL-URL:http://www.luckycauctions.com
X-WR-CALDESC:Events for Lucky C Auctions
BEGIN:VEVENT
DTSTART;TZID=America/Denver:20230927T080000
DTEND;TZID=America/Denver:20231004T170000
DTSTAMP:20260423T193005
CREATED:20230928T005217Z
LAST-MODIFIED:20230928T005217Z
UID:1285-1695801600-1696438800@www.luckycauctions.com
SUMMARY:Online Auction 10/4
DESCRIPTION:Online Auction 10/4 \n  \nAuction Begins Closing Oct 4th at 7PM \nPreview: Oct 4th 12-6PM\nPickup: Oct 5th 12-7PM \nLocation: 156 S 5th St Wilder\, ID  \n
URL:http://www.luckycauctions.com/auction/online-auction-10-4/
END:VEVENT
END:VCALENDAR