BEGIN:VCALENDAR
VERSION:2.0
PRODID:-//Lucky C Auctions - ECPv4.6.9//NONSGML v1.0//EN
CALSCALE:GREGORIAN
METHOD:PUBLISH
X-WR-CALNAME:Lucky C Auctions
X-ORIGINAL-URL:http://www.luckycauctions.com
X-WR-CALDESC:Events for Lucky C Auctions
BEGIN:VEVENT
DTSTART;TZID=America/Denver:20161009T080000
DTEND;TZID=America/Denver:20161026T190000
DTSTAMP:20260422T024413
CREATED:20161009T153346Z
LAST-MODIFIED:20161009T153346Z
UID:418-1476000000-1477508400@www.luckycauctions.com
SUMMARY:Online Auction 10/26
DESCRIPTION:\nBegins Closing at 7PM on Oct 26th\n\n\n \nPreview Date/Time:    Oct 26th 12-6PM\n\n\nCheckout Date/Time:  Oct 27th 12-7PM\n\n\n \nLocation:  156 S 5th St (Hwy 95) Wilder\, ID 83676\n\n
URL:http://www.luckycauctions.com/auction/online-auction-1026/
LOCATION:156 S 5th St (Hwy 95)\, Wilder\, ID\, 83676\, United States
END:VEVENT
END:VCALENDAR