BEGIN:VCALENDAR
VERSION:2.0
PRODID:-//Lucky C Auctions - ECPv4.6.9//NONSGML v1.0//EN
CALSCALE:GREGORIAN
METHOD:PUBLISH
X-WR-CALNAME:Lucky C Auctions
X-ORIGINAL-URL:http://www.luckycauctions.com
X-WR-CALDESC:Events for Lucky C Auctions
BEGIN:VEVENT
DTSTART;TZID=America/Denver:20170925T080000
DTEND;TZID=America/Denver:20171004T190000
DTSTAMP:20260424T214258
CREATED:20170926T021757Z
LAST-MODIFIED:20170926T021757Z
UID:608-1506326400-1507143600@www.luckycauctions.com
SUMMARY:Online Auction 10/4
DESCRIPTION:Begins Closing Oct. 4th at 7PM \nPreview: Oct 4th 12-6PM \nPickup: Oct 5th 12-7PM \n
URL:http://www.luckycauctions.com/auction/online-auction-104/
LOCATION:156 S 5th St (Hwy 95)\, Wilder\, ID\, 83676\, United States
END:VEVENT
END:VCALENDAR