BEGIN:VCALENDAR
VERSION:2.0
PRODID:-//Lucky C Auctions - ECPv4.6.9//NONSGML v1.0//EN
CALSCALE:GREGORIAN
METHOD:PUBLISH
X-WR-CALNAME:Lucky C Auctions
X-ORIGINAL-URL:http://www.luckycauctions.com
X-WR-CALDESC:Events for Lucky C Auctions
BEGIN:VEVENT
DTSTART;TZID=America/Denver:20211102T080000
DTEND;TZID=America/Denver:20211110T190000
DTSTAMP:20260422T022100
CREATED:20211103T020031Z
LAST-MODIFIED:20211103T020031Z
UID:1112-1635840000-1636570800@www.luckycauctions.com
SUMMARY:Online Auction 11/10
DESCRIPTION:Online Auction 11/10: \nAuction Begins Closing Nov 10th at 7PM \nPreview: Nov 10th 12-6PM\nPickup: Nov 11th 12-7PM\nLocation: 156 S 5th St (Hwy 95) Wilder\,ID  \n
URL:http://www.luckycauctions.com/auction/online-auction-11-10/
END:VEVENT
END:VCALENDAR