BEGIN:VCALENDAR
VERSION:2.0
PRODID:-//Lucky C Auctions - ECPv4.6.9//NONSGML v1.0//EN
CALSCALE:GREGORIAN
METHOD:PUBLISH
X-WR-CALNAME:Lucky C Auctions
X-ORIGINAL-URL:http://www.luckycauctions.com
X-WR-CALDESC:Events for Lucky C Auctions
BEGIN:VEVENT
DTSTART;TZID=America/Denver:20191105T080000
DTEND;TZID=America/Denver:20191113T190000
DTSTAMP:20260424T144259
CREATED:20191106T030559Z
LAST-MODIFIED:20191106T030559Z
UID:874-1572940800-1573671600@www.luckycauctions.com
SUMMARY:Online Auction 11/13
DESCRIPTION:Online Auction 11/13: \nBegins Closing Nov 13th at 7PM \nPreview: Nov13th 12-6PM \nPickup: Nov 14th 12-7PM \n
URL:http://www.luckycauctions.com/auction/online-auction-11-13/
END:VEVENT
END:VCALENDAR