BEGIN:VCALENDAR
VERSION:2.0
PRODID:-//Lucky C Auctions - ECPv4.6.9//NONSGML v1.0//EN
CALSCALE:GREGORIAN
METHOD:PUBLISH
X-WR-CALNAME:Lucky C Auctions
X-ORIGINAL-URL:http://www.luckycauctions.com
X-WR-CALDESC:Events for Lucky C Auctions
BEGIN:VEVENT
DTSTART;TZID=America/Denver:20231108T080000
DTEND;TZID=America/Denver:20231115T190000
DTSTAMP:20260423T193920
CREATED:20231109T022524Z
LAST-MODIFIED:20231109T022757Z
UID:1296-1699430400-1700074800@www.luckycauctions.com
SUMMARY:Online Auction 11/15
DESCRIPTION:Online Auction 11/15 \nAuction Begins Closing Nov 15th at 7PM \nPreview: Nov 15th 12-6PM\nLocation: 156 s 5Th St Wilder\, ID  \n
URL:http://www.luckycauctions.com/auction/online-auction-11-15/
END:VEVENT
END:VCALENDAR