BEGIN:VCALENDAR
VERSION:2.0
PRODID:-//Lucky C Auctions - ECPv4.6.9//NONSGML v1.0//EN
CALSCALE:GREGORIAN
METHOD:PUBLISH
X-WR-CALNAME:Lucky C Auctions
X-ORIGINAL-URL:http://www.luckycauctions.com
X-WR-CALDESC:Events for Lucky C Auctions
BEGIN:VEVENT
DTSTART;TZID=America/Denver:20201109T080000
DTEND;TZID=America/Denver:20201118T190000
DTSTAMP:20260424T100044
CREATED:20201110T005549Z
LAST-MODIFIED:20201110T005549Z
UID:977-1604908800-1605726000@www.luckycauctions.com
SUMMARY:Online Auction 11/18
DESCRIPTION:Online Auction 11/18: \nAuction Begins Closing Nov 18th at 7PM \nPreview: Nov 18th 12-6PM \nPickup: Nov 19th 12-7PM \nLocation: 156 S 5th St (HWY 95) Wilder \n
URL:http://www.luckycauctions.com/auction/online-auction-11-18/
END:VEVENT
END:VCALENDAR