BEGIN:VCALENDAR
VERSION:2.0
PRODID:-//Lucky C Auctions - ECPv4.6.9//NONSGML v1.0//EN
CALSCALE:GREGORIAN
METHOD:PUBLISH
X-WR-CALNAME:Lucky C Auctions
X-ORIGINAL-URL:http://www.luckycauctions.com
X-WR-CALDESC:Events for Lucky C Auctions
BEGIN:VEVENT
DTSTART;TZID=America/Denver:20161024T080000
DTEND;TZID=America/Denver:20161109T190000
DTSTAMP:20260424T112055
CREATED:20161028T031402Z
LAST-MODIFIED:20161028T031402Z
UID:430-1477296000-1478718000@www.luckycauctions.com
SUMMARY:Online Auction 11/9
DESCRIPTION:\nPreview Date/Time:    Nov 9th 12-6PM\n\n\nCheckout Date/Time:  Nov 10th 12-7PM\n\n\n \nLocation:  156 S 5th St (Hwy 95) Wilder\, ID 83676\n\n
URL:http://www.luckycauctions.com/auction/online-auction-119/
LOCATION:156 S 5th St (Hwy 95)\, Wilder\, ID\, 83676\, United States
END:VEVENT
END:VCALENDAR