BEGIN:VCALENDAR
VERSION:2.0
PRODID:-//Lucky C Auctions - ECPv4.6.9//NONSGML v1.0//EN
CALSCALE:GREGORIAN
METHOD:PUBLISH
X-WR-CALNAME:Lucky C Auctions
X-ORIGINAL-URL:http://www.luckycauctions.com
X-WR-CALDESC:Events for Lucky C Auctions
BEGIN:VEVENT
DTSTART;TZID=America/Denver:20211206T080000
DTEND;TZID=America/Denver:20211215T190000
DTSTAMP:20260421T225615
CREATED:20211207T023134Z
LAST-MODIFIED:20211207T023153Z
UID:1118-1638777600-1639594800@www.luckycauctions.com
SUMMARY:Online Auction 12/15
DESCRIPTION:Online Auction 12/15: \nAuction Begins Closing 12/15 @ 7PM \nPreview: Dec 15th 12-6PM\nPickup: Dec 16th 12-7PM \nLocation: 156 S 5th St (HWY 95) Wilder\, ID  \n
URL:http://www.luckycauctions.com/auction/online-auction-12-15/
END:VEVENT
END:VCALENDAR