BEGIN:VCALENDAR
VERSION:2.0
PRODID:-//Lucky C Auctions - ECPv4.6.9//NONSGML v1.0//EN
CALSCALE:GREGORIAN
METHOD:PUBLISH
X-WR-CALNAME:Lucky C Auctions
X-ORIGINAL-URL:http://www.luckycauctions.com
X-WR-CALDESC:Events for Lucky C Auctions
BEGIN:VEVENT
DTSTART;TZID=America/Denver:20201202T080000
DTEND;TZID=America/Denver:20201216T190000
DTSTAMP:20260424T082626
CREATED:20201203T004647Z
LAST-MODIFIED:20201203T004647Z
UID:988-1606896000-1608145200@www.luckycauctions.com
SUMMARY:Online Auction 12/16
DESCRIPTION:Online Auction 12/16: \nAuction Begins Closing Dec 16th at 7PM \nPreview: Dec 16th 12-6PM \nPickup: Dec 17th 12-7PM \nLocation: 156 S 5th St (HWY 95) Wilder \n
URL:http://www.luckycauctions.com/auction/online-auction-12-16/
END:VEVENT
END:VCALENDAR