BEGIN:VCALENDAR
VERSION:2.0
PRODID:-//Lucky C Auctions - ECPv4.6.9//NONSGML v1.0//EN
CALSCALE:GREGORIAN
METHOD:PUBLISH
X-WR-CALNAME:Lucky C Auctions
X-ORIGINAL-URL:http://www.luckycauctions.com
X-WR-CALDESC:Events for Lucky C Auctions
BEGIN:VEVENT
DTSTART;TZID=America/Denver:20191208T080000
DTEND;TZID=America/Denver:20191218T190000
DTSTAMP:20260424T130117
CREATED:20191209T013202Z
LAST-MODIFIED:20191209T013202Z
UID:883-1575792000-1576695600@www.luckycauctions.com
SUMMARY:Online Auction 12/18
DESCRIPTION:Online Auction 12/18 \nBegins Closing Dec 18th at 7PM \nPreview: Dec 18th 12-6PM\nPickup: Dec 19th 12-7PM \n
URL:http://www.luckycauctions.com/auction/online-auction-12-18/
END:VEVENT
END:VCALENDAR