BEGIN:VCALENDAR
VERSION:2.0
PRODID:-//Lucky C Auctions - ECPv4.6.9//NONSGML v1.0//EN
CALSCALE:GREGORIAN
METHOD:PUBLISH
X-WR-CALNAME:Lucky C Auctions
X-ORIGINAL-URL:http://www.luckycauctions.com
X-WR-CALDESC:Events for Lucky C Auctions
BEGIN:VEVENT
DTSTART;TZID=America/Denver:20201119T080000
DTEND;TZID=America/Denver:20201202T190000
DTSTAMP:20260424T083622
CREATED:20201120T014327Z
LAST-MODIFIED:20201120T014327Z
UID:985-1605772800-1606935600@www.luckycauctions.com
SUMMARY:Online Auction 12/2
DESCRIPTION:Online Auction 12/2: \nAuction Begins Closing Dec 2nd at 7PM \nPreview: Dec 2nd 12-6PM \nPickup: Dec 3rd 12-7PM \nLocation : 156 S 5th St (HWY 95) Wilder  \n
URL:http://www.luckycauctions.com/auction/online-auction-12-2/
END:VEVENT
END:VCALENDAR