BEGIN:VCALENDAR
VERSION:2.0
PRODID:-//Lucky C Auctions - ECPv4.6.9//NONSGML v1.0//EN
CALSCALE:GREGORIAN
METHOD:PUBLISH
X-WR-CALNAME:Lucky C Auctions
X-ORIGINAL-URL:http://www.luckycauctions.com
X-WR-CALDESC:Events for Lucky C Auctions
BEGIN:VEVENT
DTSTART;TZID=America/Denver:20191118T080000
DTEND;TZID=America/Denver:20191204T190000
DTSTAMP:20260424T130251
CREATED:20191119T030800Z
LAST-MODIFIED:20191119T030855Z
UID:877-1574064000-1575486000@www.luckycauctions.com
SUMMARY:Online Auction 12/4
DESCRIPTION:Online Auction 12/4 \nBegins  Closing Dec 4th at 7PM \nPreview: Dec 4th 12-6PM \nPickup: Dec 5th 12-7PM   \n
URL:http://www.luckycauctions.com/auction/online-auction-12-4/
END:VEVENT
END:VCALENDAR