BEGIN:VCALENDAR
VERSION:2.0
PRODID:-//Lucky C Auctions - ECPv4.6.9//NONSGML v1.0//EN
CALSCALE:GREGORIAN
METHOD:PUBLISH
X-WR-CALNAME:Lucky C Auctions
X-ORIGINAL-URL:http://www.luckycauctions.com
X-WR-CALDESC:Events for Lucky C Auctions
BEGIN:VEVENT
DTSTART;TZID=America/Denver:20231129T080000
DTEND;TZID=America/Denver:20231206T190000
DTSTAMP:20260423T173930
CREATED:20231130T002154Z
LAST-MODIFIED:20231130T002154Z
UID:1306-1701244800-1701889200@www.luckycauctions.com
SUMMARY:Online Auction 12/6
DESCRIPTION:Online Auction 12/6 \nAuction begins closing Dec 6th at 7PM\nPreview: Dec 6th 12-6PM\nPickup: Dec 7th 12-7PM\nLocation: 156 S 5th ST Wilder\,  \n  \n
URL:http://www.luckycauctions.com/auction/online-auction-12-6/
END:VEVENT
END:VCALENDAR