BEGIN:VCALENDAR
VERSION:2.0
PRODID:-//Lucky C Auctions - ECPv4.6.9//NONSGML v1.0//EN
CALSCALE:GREGORIAN
METHOD:PUBLISH
X-WR-CALNAME:Lucky C Auctions
X-ORIGINAL-URL:http://www.luckycauctions.com
X-WR-CALDESC:Events for Lucky C Auctions
BEGIN:VEVENT
DTSTART;TZID=America/Denver:20170110T080000
DTEND;TZID=America/Denver:20170125T190000
DTSTAMP:20260424T202724
CREATED:20170111T014648Z
LAST-MODIFIED:20170111T014648Z
UID:505-1484035200-1485370800@www.luckycauctions.com
SUMMARY:Online Auction 1/25
DESCRIPTION:\nBegins Closing Jan 25th 12-6PM\n\n\n \nPreview Date/Time:     Jan 25th 12-6PM\n\n\nCheckout Date/Time:  Jan 26th 12-7PM\n\n\n \nLocation:  156 S 5th St (Hwy 95) Wilder\, ID 83676\n\n
URL:http://www.luckycauctions.com/auction/online-auction-125/
LOCATION:156 S 5th St (Hwy 95)\, Wilder\, ID\, 83676\, United States
END:VEVENT
END:VCALENDAR