BEGIN:VCALENDAR
VERSION:2.0
PRODID:-//Lucky C Auctions - ECPv4.6.9//NONSGML v1.0//EN
CALSCALE:GREGORIAN
METHOD:PUBLISH
X-WR-CALNAME:Lucky C Auctions
X-ORIGINAL-URL:http://www.luckycauctions.com
X-WR-CALDESC:Events for Lucky C Auctions
BEGIN:VEVENT
DTSTART;TZID=America/Denver:20200208T080000
DTEND;TZID=America/Denver:20200219T190000
DTSTAMP:20260424T131218
CREATED:20200209T020738Z
LAST-MODIFIED:20200209T164448Z
UID:891-1581148800-1582138800@www.luckycauctions.com
SUMMARY:Online Auction 2/19
DESCRIPTION:Online Auction 2/19: \nBegins Closing Feb 19th at 7PM \nPreview: Feb 19th 12-6PM \nPickup: Feb 20th 12-7PM \n
URL:http://www.luckycauctions.com/auction/online-auction-2-19/
END:VEVENT
END:VCALENDAR