BEGIN:VCALENDAR
VERSION:2.0
PRODID:-//Lucky C Auctions - ECPv4.6.9//NONSGML v1.0//EN
CALSCALE:GREGORIAN
METHOD:PUBLISH
X-WR-CALNAME:Lucky C Auctions
X-ORIGINAL-URL:http://www.luckycauctions.com
X-WR-CALDESC:Events for Lucky C Auctions
BEGIN:VEVENT
DTSTART;TZID=America/Denver:20220124T080000
DTEND;TZID=America/Denver:20220202T190000
DTSTAMP:20260421T162941
CREATED:20220125T032606Z
LAST-MODIFIED:20220125T032653Z
UID:1130-1643011200-1643828400@www.luckycauctions.com
SUMMARY:Online Auction 2/2
DESCRIPTION:Online Auction 2/2:\nAuction Begins Closing Feb 2nd at 7PM \nPreview: Feb 2nd 12-6PM\nPickup: Feb 3rd 12-7PM \nLocation: 156 S 5th st (HWY 95) Wilder\, ID \n  \n
URL:http://www.luckycauctions.com/auction/online-auction-2-2/
END:VEVENT
END:VCALENDAR