BEGIN:VCALENDAR
VERSION:2.0
PRODID:-//Lucky C Auctions - ECPv4.6.9//NONSGML v1.0//EN
CALSCALE:GREGORIAN
METHOD:PUBLISH
X-WR-CALNAME:Lucky C Auctions
X-ORIGINAL-URL:http://www.luckycauctions.com
X-WR-CALDESC:Events for Lucky C Auctions
BEGIN:VEVENT
DTSTART;TZID=America/Denver:20240214T080000
DTEND;TZID=America/Denver:20240221T190000
DTSTAMP:20260423T173757
CREATED:20240215T004404Z
LAST-MODIFIED:20240215T005312Z
UID:1319-1707897600-1708542000@www.luckycauctions.com
SUMMARY:Online Auction 2/21
DESCRIPTION:Online Auction 2/21 \nAuction Begins Closing Feb 21st at 7PM\nPreview: Feb 21st 12-6PM\nPickup: Feb 22nd 11am to 5PM\, Feb 23rd 10am to 2PM \nLocation: 156 S 5th St Wilder\, ID  \n
URL:http://www.luckycauctions.com/auction/online-auction-2-21/
END:VEVENT
END:VCALENDAR