BEGIN:VCALENDAR
VERSION:2.0
PRODID:-//Lucky C Auctions - ECPv4.6.9//NONSGML v1.0//EN
CALSCALE:GREGORIAN
METHOD:PUBLISH
X-WR-CALNAME:Lucky C Auctions
X-ORIGINAL-URL:http://www.luckycauctions.com
X-WR-CALDESC:Events for Lucky C Auctions
BEGIN:VEVENT
DTSTART;TZID=America/Denver:20240131T080000
DTEND;TZID=America/Denver:20240207T170000
DTSTAMP:20260423T192659
CREATED:20240131T133942Z
LAST-MODIFIED:20240131T133942Z
UID:1316-1706688000-1707325200@www.luckycauctions.com
SUMMARY:Online Auction 2/7
DESCRIPTION:Online Auction 2/7 \nAuction Begins Closing Feb 7th at 7PM\nPreview: Feb 7th 12-6PM\nPickup: Feb 8th 12-7PM\nLocation: 156 S 5th St Wilder\, ID \n
URL:http://www.luckycauctions.com/auction/online-auction-2-7/
END:VEVENT
END:VCALENDAR