BEGIN:VCALENDAR
VERSION:2.0
PRODID:-//Lucky C Auctions - ECPv4.6.9//NONSGML v1.0//EN
CALSCALE:GREGORIAN
METHOD:PUBLISH
X-WR-CALNAME:Lucky C Auctions
X-ORIGINAL-URL:http://www.luckycauctions.com
X-WR-CALDESC:Events for Lucky C Auctions
BEGIN:VEVENT
DTSTART;TZID=America/Denver:20170124T080000
DTEND;TZID=America/Denver:20170202T190000
DTSTAMP:20260424T214156
CREATED:20170125T014915Z
LAST-MODIFIED:20170125T014915Z
UID:510-1485244800-1486062000@www.luckycauctions.com
SUMMARY:Online Auction 2/8
DESCRIPTION:\nBegins Closing Feb. 8th at 7PM\n\n\n \nPreview Date/Time:     Feb 8th 12-6PM\n\n\nCheckout Date/Time:  Feb. 9th 12-7PM\n\n\n \nLocation:  156 S 5th St (Hwy 95) Wilder\, ID 83676\n\n
URL:http://www.luckycauctions.com/auction/online-auction-28/
LOCATION:156 S 5th St (Hwy 95)\, Wilder\, ID\, 83676\, United States
END:VEVENT
END:VCALENDAR