BEGIN:VCALENDAR
VERSION:2.0
PRODID:-//Lucky C Auctions - ECPv4.6.9//NONSGML v1.0//EN
CALSCALE:GREGORIAN
METHOD:PUBLISH
X-WR-CALNAME:Lucky C Auctions
X-ORIGINAL-URL:http://www.luckycauctions.com
X-WR-CALDESC:Events for Lucky C Auctions
BEGIN:VEVENT
DTSTART;TZID=America/Denver:20240316T080000
DTEND;TZID=America/Denver:20240320T190000
DTSTAMP:20260423T173849
CREATED:20240316T144838Z
LAST-MODIFIED:20240316T144838Z
UID:1326-1710576000-1710961200@www.luckycauctions.com
SUMMARY:Online Auction 3/20
DESCRIPTION:Online Auction 3/20 \nAuction begins Closing March 20th at 7PM\nPreview: March 20th 12-6PM\nPickup: March 21st & 22nd  \nLocation: 156 S 5th St Wilder\,ID  \n
URL:http://www.luckycauctions.com/auction/online-auction-3-20/
END:VEVENT
END:VCALENDAR