BEGIN:VCALENDAR
VERSION:2.0
PRODID:-//Lucky C Auctions - ECPv4.6.9//NONSGML v1.0//EN
CALSCALE:GREGORIAN
METHOD:PUBLISH
X-WR-CALNAME:Lucky C Auctions
X-ORIGINAL-URL:http://www.luckycauctions.com
X-WR-CALDESC:Events for Lucky C Auctions
BEGIN:VEVENT
DTSTART;TZID=America/Denver:20220314T080000
DTEND;TZID=America/Denver:20220330T190000
DTSTAMP:20260421T102111
CREATED:20220315T022448Z
LAST-MODIFIED:20220315T022448Z
UID:1143-1647244800-1648666800@www.luckycauctions.com
SUMMARY:Online Auction 3/30
DESCRIPTION:Online Auction 3/30 \nAuction Begins Closing March 30th at 7PM \nPreview: March 30th 12-6PM \nPickup: March 31st 12-7PM\nLocation: 156 S 5th St Wilder\, ID  \n
URL:http://www.luckycauctions.com/auction/online-auction-3-30/
END:VEVENT
END:VCALENDAR