BEGIN:VCALENDAR
VERSION:2.0
PRODID:-//Lucky C Auctions - ECPv4.6.9//NONSGML v1.0//EN
CALSCALE:GREGORIAN
METHOD:PUBLISH
X-WR-CALNAME:Lucky C Auctions
X-ORIGINAL-URL:http://www.luckycauctions.com
X-WR-CALDESC:Events for Lucky C Auctions
BEGIN:VEVENT
DTSTART;TZID=America/Denver:20210322T080000
DTEND;TZID=America/Denver:20210331T190000
DTSTAMP:20260424T083110
CREATED:20210323T025118Z
LAST-MODIFIED:20210323T025118Z
UID:1008-1616400000-1617217200@www.luckycauctions.com
SUMMARY:Online Auction 3/31
DESCRIPTION:Online Auction 3/31: \nAuction Begins Closing March 31st at 7PM\nPreview: March 31st 12-6PM \nPickup: April 1st 12-7PM \nLocation: 156 S 5th St Wilder\, ID  \n
URL:http://www.luckycauctions.com/auction/online-auction-3-31/
END:VEVENT
END:VCALENDAR