BEGIN:VCALENDAR
VERSION:2.0
PRODID:-//Lucky C Auctions - ECPv4.6.9//NONSGML v1.0//EN
CALSCALE:GREGORIAN
METHOD:PUBLISH
X-WR-CALNAME:Lucky C Auctions
X-ORIGINAL-URL:http://www.luckycauctions.com
X-WR-CALDESC:Events for Lucky C Auctions
BEGIN:VEVENT
DTSTART;TZID=America/Denver:20200224T080000
DTEND;TZID=America/Denver:20200304T190000
DTSTAMP:20260424T130124
CREATED:20200225T030543Z
LAST-MODIFIED:20200225T030543Z
UID:899-1582531200-1583348400@www.luckycauctions.com
SUMMARY:Online Auction 3/4
DESCRIPTION:Online Auction 3/4: \nAuction Begins Closing March 4th at 7PM \nPreview: March 4th 12-6PM \nPickup: March 5th 12-7PM \n
URL:http://www.luckycauctions.com/auction/online-auction-3-4/
END:VEVENT
END:VCALENDAR