BEGIN:VCALENDAR
VERSION:2.0
PRODID:-//Lucky C Auctions - ECPv4.6.9//NONSGML v1.0//EN
CALSCALE:GREGORIAN
METHOD:PUBLISH
X-WR-CALNAME:Lucky C Auctions
X-ORIGINAL-URL:http://www.luckycauctions.com
X-WR-CALDESC:Events for Lucky C Auctions
BEGIN:VEVENT
DTSTART;TZID=America/Denver:20170314T080000
DTEND;TZID=America/Denver:20170322T190000
DTSTAMP:20260424T225937
CREATED:20170315T025933Z
LAST-MODIFIED:20170315T025933Z
UID:529-1489478400-1490209200@www.luckycauctions.com
SUMMARY:Online Auction 3/22
DESCRIPTION:\n\n\n \nBegins Closing March 22nd at 7PM\n\n\nPreview Date/Time\nMarch 22nd 12-6PM\n\n\nCheckout Date/Time\nMarch 23rd 12-7PM\n\n\nLocation\n156 S 5th St (Hwy 95)\n Wilder\, ID 83676\n\n\n\n  \n
URL:http://www.luckycauctions.com/auction/online-auction-322/
LOCATION:156 S 5th St (Hwy 95)\, Wilder\, ID\, 83676\, United States
END:VEVENT
END:VCALENDAR