BEGIN:VCALENDAR
VERSION:2.0
PRODID:-//Lucky C Auctions - ECPv4.6.9//NONSGML v1.0//EN
CALSCALE:GREGORIAN
METHOD:PUBLISH
X-WR-CALNAME:Lucky C Auctions
X-ORIGINAL-URL:http://www.luckycauctions.com
X-WR-CALDESC:Events for Lucky C Auctions
BEGIN:VEVENT
DTSTART;TZID=America/Denver:20160229T080000
DTEND;TZID=America/Denver:20160330T190000
DTSTAMP:20260422T060001
CREATED:20160303T032945Z
LAST-MODIFIED:20160303T032945Z
UID:309-1456732800-1459364400@www.luckycauctions.com
SUMMARY:Online Auction 3/30
DESCRIPTION:\nBegins Closing March 30th at 7PM\n\n\n \nPreview Date/Time:  March 30th 12-6PM\n\n\nCheckout Date/Time:March 31st 12-7PM\n\n\n \nLocation: 220 B Ave Wilder\, ID 83676\n\n\n \nBuyer Premium: 13%BP\, 10% for cash/check\n\n
URL:http://www.luckycauctions.com/auction/online-auction-330/
LOCATION:156 S 5th St (Hwy 95)\, Wilder\, ID\, 83676\, United States
END:VEVENT
END:VCALENDAR