BEGIN:VCALENDAR
VERSION:2.0
PRODID:-//Lucky C Auctions - ECPv4.6.9//NONSGML v1.0//EN
CALSCALE:GREGORIAN
METHOD:PUBLISH
X-WR-CALNAME:Lucky C Auctions
X-ORIGINAL-URL:http://www.luckycauctions.com
X-WR-CALDESC:Events for Lucky C Auctions
BEGIN:VEVENT
DTSTART;TZID=America/Denver:20170221T080000
DTEND;TZID=America/Denver:20170308T190000
DTSTAMP:20260424T230223
CREATED:20170222T022212Z
LAST-MODIFIED:20170222T022212Z
UID:520-1487664000-1488999600@www.luckycauctions.com
SUMMARY:Online Auction 3/8
DESCRIPTION:\n\n\n \nBegins Closing at 7PM on March 8th\n\n\nPreview Date/Time\nMarch 8th 12-6PM\n\n\nCheckout Date/Time\nMarch 9th 12-7PM\n\n\nLocation\n156 S 5th St (Hwy 95)\n Wilder\, ID 83676\n\n\n\n  \n
URL:http://www.luckycauctions.com/auction/online-auction-38/
LOCATION:156 S 5th St (Hwy 95)\, Wilder\, ID\, 83676\, United States
END:VEVENT
END:VCALENDAR