BEGIN:VCALENDAR
VERSION:2.0
PRODID:-//Lucky C Auctions - ECPv4.6.9//NONSGML v1.0//EN
CALSCALE:GREGORIAN
METHOD:PUBLISH
X-WR-CALNAME:Lucky C Auctions
X-ORIGINAL-URL:http://www.luckycauctions.com
X-WR-CALDESC:Events for Lucky C Auctions
BEGIN:VEVENT
DTSTART;TZID=America/Denver:20200411T080000
DTEND;TZID=America/Denver:20200415T190000
DTSTAMP:20260424T112453
CREATED:20200412T041335Z
LAST-MODIFIED:20200412T041335Z
UID:915-1586592000-1586977200@www.luckycauctions.com
SUMMARY:Online Auction 4/15
DESCRIPTION:Online Auction 4/15: \nBegins Closing April 15th at 7PM \nPreview: April 15th 12-6PM \nPickup: April 16th 12-7PM \n  \n
URL:http://www.luckycauctions.com/auction/online-auction-4-15/
END:VEVENT
END:VCALENDAR