BEGIN:VCALENDAR
VERSION:2.0
PRODID:-//Lucky C Auctions - ECPv4.6.9//NONSGML v1.0//EN
CALSCALE:GREGORIAN
METHOD:PUBLISH
X-WR-CALNAME:Lucky C Auctions
X-ORIGINAL-URL:http://www.luckycauctions.com
X-WR-CALDESC:Events for Lucky C Auctions
BEGIN:VEVENT
DTSTART;TZID=America/Denver:20180416T080000
DTEND;TZID=America/Denver:20180425T190000
DTSTAMP:20260425T102313
CREATED:20180417T022042Z
LAST-MODIFIED:20180417T022042Z
UID:697-1523865600-1524682800@www.luckycauctions.com
SUMMARY:Online Auction 4/25
DESCRIPTION:Begins Closing April 25th at 7PM\nPreview April 25th 12-6PM\nPickup April 26th 12-7PM \n
URL:http://www.luckycauctions.com/auction/online-auction-4-25/
LOCATION:156 S 5th St (Hwy 95)\, Wilder\, ID\, 83676\, United States
END:VEVENT
END:VCALENDAR