BEGIN:VCALENDAR
VERSION:2.0
PRODID:-//Lucky C Auctions - ECPv4.6.9//NONSGML v1.0//EN
CALSCALE:GREGORIAN
METHOD:PUBLISH
X-WR-CALNAME:Lucky C Auctions
X-ORIGINAL-URL:http://www.luckycauctions.com
X-WR-CALDESC:Events for Lucky C Auctions
BEGIN:VEVENT
DTSTART;TZID=America/Denver:20240327T080000
DTEND;TZID=America/Denver:20240403T190000
DTSTAMP:20260423T173720
CREATED:20240328T015125Z
LAST-MODIFIED:20240328T015125Z
UID:1331-1711526400-1712170800@www.luckycauctions.com
SUMMARY:Online Auction 4/3
DESCRIPTION:Online Auction 4/3 \nAuction Begins Closing April 3rd at 7PM \nPreview: April 3rd 12-5pm \nPickup; April 4th 11am to 5pm\, April 5th 10am to 2pm \nLocation: 156 S 5th ST Wilder\, ID  \n
URL:http://www.luckycauctions.com/auction/online-auction-4-3/
END:VEVENT
END:VCALENDAR