BEGIN:VCALENDAR
VERSION:2.0
PRODID:-//Lucky C Auctions - ECPv4.6.9//NONSGML v1.0//EN
CALSCALE:GREGORIAN
METHOD:PUBLISH
X-WR-CALNAME:Lucky C Auctions
X-ORIGINAL-URL:http://www.luckycauctions.com
X-WR-CALDESC:Events for Lucky C Auctions
BEGIN:VEVENT
DTSTART;TZID=America/Denver:20240424T080000
DTEND;TZID=America/Denver:20240501T190000
DTSTAMP:20260423T155647
CREATED:20240425T002132Z
LAST-MODIFIED:20240425T002132Z
UID:1340-1713945600-1714590000@www.luckycauctions.com
SUMMARY:Online Auction 5/1
DESCRIPTION:Online Auction 5/1 \nAuction Begins closing May 1st at 7PM \nPreview: May 1st 12-6PM \nPickup: May 2nd 11am to 530pm\, May 3rd 10am to 2PM \nLocation: 156 S 5th St Wilder\, ID   \n
URL:http://www.luckycauctions.com/auction/online-auction-5-1/
END:VEVENT
END:VCALENDAR