BEGIN:VCALENDAR
VERSION:2.0
PRODID:-//Lucky C Auctions - ECPv4.6.9//NONSGML v1.0//EN
CALSCALE:GREGORIAN
METHOD:PUBLISH
X-WR-CALNAME:Lucky C Auctions
X-ORIGINAL-URL:http://www.luckycauctions.com
X-WR-CALDESC:Events for Lucky C Auctions
BEGIN:VEVENT
DTSTART;TZID=America/Denver:20180516T080000
DTEND;TZID=America/Denver:20180523T190000
DTSTAMP:20260425T164821
CREATED:20180516T135634Z
LAST-MODIFIED:20180516T135634Z
UID:714-1526457600-1527102000@www.luckycauctions.com
SUMMARY:Online Auction 5/23
DESCRIPTION:Begins Closing May 23rd at 7PM \nPreview: May 23rd 12-6PM\nPickup: May 24th 12-7PM ONLY\nLocation: 156 S. 5th ST (HWY 95) Wilder \n  \n
URL:http://www.luckycauctions.com/auction/online-auction-5-23/
LOCATION:156 S 5th St (Hwy 95)\, Wilder\, ID\, 83676\, United States
END:VEVENT
END:VCALENDAR